Workbook

Sheet 图纸完整性
A1: __________项目____05____地块景观审查
A2: 审查阶段 | B2: 审查项 | C2: 审查要点 | D2: 审核意见 | E2: 备注 | F2: 分类标签 | L2: 总分（18分） | O2: 分类统计
F3: 客户 （要求知会营销、客服） | G3: 进度以及质量 （知会工程部） | H3: 开发 （知会开发部） | I3: 成本 （知会成本部） | J3: 维保 （知会物业） | K3: 纯设计问题 | L3: 分值 | M3: 得分 | N3: 有效分数 | O3: 客户 得分 | P3: 客户有效分 | Q3: 工程 得分 | R3: 工程有效分 | S3: 开发 得分 | T3: 开发有效分 | U3: 成本 得分 | V3: 成本有效分 | W3: 维保得分 | X3: 维保有效分 | Y3: 设计得分 | Z3: 设计有效分
A4: 目录审核 | B4: 图纸缺失 | C4: 用地红线外市政道路、绿化图纸；以及灯具布置图。 | D4: 合格知会 | H4: 1 | I4: 1 | L4: 3 | M4: =IF(D4="合格",L4,IF(D4="合格知会",L4*0.5,0)) -> 1.5 | N4: =IF(D4="无效项",0,L4) -> 3 | O4: =F4*M4 -> 0 | P4: =F4*N4 -> 0 | Q4: =G4*M4 -> 0 | R4: =G4*N4 -> 0 | S4: =H4*M4 -> 1.5 | T4: =H4*N4 -> 3 | U4: =I4*M4 -> 1.5 | V4: =I4*N4 -> 3 | W4: =J4*M4 -> 0 | X4: =J4*N4 -> 0 | Y4: =K4*M4 -> 0 | Z4: =K4*N4 -> 0
C5: 围墙总平面定位图（需要标注立柱定位及顶部标高）；以及围墙内部外部大立面图（重点需要表达边界变坡较大位置）。 | D5: 合格知会 | G5: 1 | I5: 1 | L5: 3 | M5: =IF(D5="合格",L5,IF(D5="合格知会",L5*0.5,0)) -> 1.5 | N5: =IF(D5="无效项",0,L5) -> 3 | O5: =F5*M5 -> 0 | P5: =F5*N5 -> 0 | Q5: =G5*M5 -> 1.5 | R5: =G5*N5 -> 3 | S5: =H5*M5 -> 0 | T5: =H5*N5 -> 0 | U5: =I5*M5 -> 1.5 | V5: =I5*N5 -> 3 | W5: =J5*M5 -> 0 | X5: =J5*N5 -> 0 | Y5: =K5*M5 -> 0 | Z5: =K5*N5 -> 0
C6: 小区入口车行道道闸及刷卡机的布置，及安保服务岗/遮阳伞的位置 | D6: 合格知会 | F6: 1 | J6: 1 | L6: 1 | M6: =IF(D6="合格",L6,IF(D6="合格知会",L6*0.5,0)) -> 0.5 | N6: =IF(D6="无效项",0,L6) -> 1 | O6: =F6*M6 -> 0.5 | P6: =F6*N6 -> 1 | Q6: =G6*M6 -> 0 | R6: =G6*N6 -> 0 | S6: =H6*M6 -> 0 | T6: =H6*N6 -> 0 | U6: =I6*M6 -> 0 | V6: =I6*N6 -> 0 | W6: =J6*M6 -> 0.5 | X6: =J6*N6 -> 1 | Y6: =K6*M6 -> 0 | Z6: =K6*N6 -> 0
C7: 铁艺专业单位深化图纸 | D7: 合格知会 | G7: 1 | L7: 1 | M7: =IF(D7="合格",L7,IF(D7="合格知会",L7*0.5,0)) -> 0.5 | N7: =IF(D7="无效项",0,L7) -> 1 | O7: =F7*M7 -> 0 | P7: =F7*N7 -> 0 | Q7: =G7*M7 -> 0.5 | R7: =G7*N7 -> 1 | S7: =H7*M7 -> 0 | T7: =H7*N7 -> 0 | U7: =I7*M7 -> 0 | V7: =I7*N7 -> 0 | W7: =J7*M7 -> 0 | X7: =J7*N7 -> 0 | Y7: =K7*M7 -> 0 | Z7: =K7*N7 -> 0
C8: 低密度住宅的庭院内铺装、台阶及平台详图； 高层各出入口平台详图。 | D8: 合格知会 | I8: 1 | L8: 1 | M8: =IF(D8="合格",L8,IF(D8="合格知会",L8*0.5,0)) -> 0.5 | N8: =IF(D8="无效项",0,L8) -> 1 | O8: =F8*M8 -> 0 | P8: =F8*N8 -> 0 | Q8: =G8*M8 -> 0 | R8: =G8*N8 -> 0 | S8: =H8*M8 -> 0 | T8: =H8*N8 -> 0 | U8: =I8*M8 -> 0.5 | V8: =I8*N8 -> 1 | W8: =J8*M8 -> 0 | X8: =J8*N8 -> 0 | Y8: =K8*M8 -> 0 | Z8: =K8*N8 -> 0
C9: 运动场地（羽毛球场、篮球场）二次深化图纸 | D9: 无效项 | I9: 1 | L9: 1 | M9: =IF(D9="合格",L9,IF(D9="合格知会",L9*0.5,0)) -> 0 | N9: =IF(D9="无效项",0,L9) -> 0 | O9: =F9*M9 -> 0 | P9: =F9*N9 -> 0 | Q9: =G9*M9 -> 0 | R9: =G9*N9 -> 0 | S9: =H9*M9 -> 0 | T9: =H9*N9 -> 0 | U9: =I9*M9 -> 0 | V9: =I9*N9 -> 0 | W9: =J9*M9 -> 0 | X9: =J9*N9 -> 0 | Y9: =K9*M9 -> 0 | Z9: =K9*N9 -> 0
C10: 小区生活垃圾布置点下铺装的材质图，小区生活垃圾箱布置点详图 | D10: 整改 | J10: 1 | L10: 3 | M10: =IF(D10="合格",L10,IF(D10="合格知会",L10*0.5,0)) -> 0 | N10: =IF(D10="无效项",0,L10) -> 3 | O10: =F10*M10 -> 0 | P10: =F10*N10 -> 0 | Q10: =G10*M10 -> 0 | R10: =G10*N10 -> 0 | S10: =H10*M10 -> 0 | T10: =H10*N10 -> 0 | U10: =I10*M10 -> 0 | V10: =I10*N10 -> 0 | W10: =J10*M10 -> 0 | X10: =J10*N10 -> 3 | Y10: =K10*M10 -> 0 | Z10: =K10*N10 -> 0
C11: 景观灯具基础安装图纸 | D11: 整改 | G11: 1 | L11: 1 | M11: =IF(D11="合格",L11,IF(D11="合格知会",L11*0.5,0)) -> 0 | N11: =IF(D11="无效项",0,L11) -> 1 | O11: =F11*M11 -> 0 | P11: =F11*N11 -> 0 | Q11: =G11*M11 -> 0 | R11: =G11*N11 -> 1 | S11: =H11*M11 -> 0 | T11: =H11*N11 -> 0 | U11: =I11*M11 -> 0 | V11: =I11*N11 -> 0 | W11: =J11*M11 -> 0 | X11: =J11*N11 -> 0 | Y11: =K11*M11 -> 0 | Z11: =K11*N11 -> 0
C12: 雕塑小品安装基础图纸 | D12: 合格知会 | G12: 1 | L12: 1 | M12: =IF(D12="合格",L12,IF(D12="合格知会",L12*0.5,0)) -> 0.5 | N12: =IF(D12="无效项",0,L12) -> 1 | O12: =F12*M12 -> 0 | P12: =F12*N12 -> 0 | Q12: =G12*M12 -> 0.5 | R12: =G12*N12 -> 1 | S12: =H12*M12 -> 0 | T12: =H12*N12 -> 0 | U12: =I12*M12 -> 0 | V12: =I12*N12 -> 0 | W12: =J12*M12 -> 0 | X12: =J12*N12 -> 0 | Y12: =K12*M12 -> 0 | Z12: =K12*N12 -> 0
C13: 地库顶覆土堆坡厚度超出结构荷载区位，特殊处理区域详图。 | D13: 无效项 | G13: 1 | I13: 1 | L13: 3 | M13: =IF(D13="合格",L13,IF(D13="合格知会",L13*0.5,0)) -> 0 | N13: =IF(D13="无效项",0,L13) -> 0 | O13: =F13*M13 -> 0 | P13: =F13*N13 -> 0 | Q13: =G13*M13 -> 0 | R13: =G13*N13 -> 0 | S13: =H13*M13 -> 0 | T13: =H13*N13 -> 0 | U13: =I13*M13 -> 0 | V13: =I13*N13 -> 0 | W13: =J13*M13 -> 0 | X13: =J13*N13 -> 0 | Y13: =K13*M13 -> 0 | Z13: =K13*N13 -> 0
F14: =SUM(F4:F13) -> 1 | G14: =SUM(G4:G13) -> 5 | H14: =SUM(H4:H13) -> 1 | I14: =SUM(I4:I13) -> 5 | J14: =SUM(J4:J13) -> 2 | K14: =SUM(K4:K13) -> 0 | L14: =SUM(L4:L13) -> 18 | M14: =SUM(M4:M13) -> 5 | ... Z14: =SUM(Z4:Z13) -> 0
F16: 1 | G16: 9 | H16: 3 | I16: 10 | J16: 4 | K16: 0
C20: 合格
C21: 整改
C22: 合格知会
C23: 被迫知会
C24: 无效项

Sheet 总图
A1: __________项目___05_____地块景观工作界面审查
A2: 审查阶段 | B2: 审查项 | C2: 审查要点 | D2: 审核意见 | E2: 备注 | F2: 分类标签 | L2: 总分（37分） | O2: 分类统计
F3: 客户 （要求知会营销、客服） | G3: 进度以及质量 （知会工程部） | H3: 开发 （知会开发部） | I3: 成本 （知会成本部） | J3: 维保 （知会物业） | K3: 纯设计问题 | L3: 分值 | M3: 得分 | N3: 有效分数 | O3: 客户 得分 | P3: 客户有效分 | Q3: 工程 得分 | R3: 工程有效分 | S3: 开发 得分 | T3: 开发有效分 | U3: 成本 得分 | V3: 成本有效分 | W3: 维保得分 | X3: 维保有效分 | Y3: 设计得分 | Z3: 设计有效分
A4: 总图 | B4: 总平面 | C4: 景观底图□是□否为建筑最终平面图，项目建筑设计负责人签字____________________ | D4: 合格知会 | H4: 1 | K4: 1 | L4: 3 | M4: =IF(D4="合格",L4,IF(D4="合格知会",L4*0.5,0)) -> 1.5 | N4: =IF(D4="无效项",0,L4) -> 3 | O4: =F4*M4 -> 0 | P4: =F4*N4 -> 0 | Q4: =G4*M4 -> 0 | R4: =G4*N4 -> 0 | S4: =H4*M4 -> 1.5 | T4: =H4*N4 -> 3 | U4: =I4*M4 -> 0 | V4: =I4*N4 -> 0 | W4: =J4*M4 -> 0 | X4: =J4*N4 -> 0 | Y4: =K4*M4 -> 1.5 | Z4: =K4*N4 -> 3
C5: 用地红线、地库边线、围墙、消防通道、登高面等□是□否有在所有总平图中表示 | D5: 合格知会 | K5: 1 | L5: 1 | M5: =IF(D5="合格",L5,IF(D5="合格知会",L5*0.5,0)) -> 0.5 | N5: =IF(D5="无效项",0,L5) -> 1 | O5: =F5*M5 -> 0 | P5: =F5*N5 -> 0 | Q5: =G5*M5 -> 0 | R5: =G5*N5 -> 0 | S5: =H5*M5 -> 0 | T5: =H5*N5 -> 0 | U5: =I5*M5 -> 0 | V5: =I5*N5 -> 0 | W5: =J5*M5 -> 0 | X5: =J5*N5 -> 0 | Y5: =K5*M5 -> 0.5 | Z5: =K5*N5 -> 1
C6: 主入口位置、形状、尺寸□是□否与建筑报建施工图一致，如不一致，请简述当地规范要求及解决方案__________________。 | D6: 合格知会 | H6: 1 | K6: 1 | L6: 5 | M6: =IF(D6="合格",L6,IF(D6="合格知会",L6*0.5,0)) -> 2.5 | N6: =IF(D6="无效项",0,L6) -> 5 | O6: =F6*M6 -> 0 | P6: =F6*N6 -> 0 | Q6: =G6*M6 -> 0 | R6: =G6*N6 -> 0 | S6: =H6*M6 -> 2.5 | T6: =H6*N6 -> 5 | U6: =I6*M6 -> 0 | V6: =I6*N6 -> 0 | W6: =J6*M6 -> 0 | X6: =J6*N6 -> 0 | Y6: =K6*M6 -> 2.5 | Z6: =K6*N6 -> 5
C7: 地面停车位数量、位置；消防登高面大小位置、消防通道的宽度、走向□是□否与建筑报建施工图一致，如不一致，请简述当地规范要求及解决方案_________________。 | D7: 合格知会 | E7: 报规图纸中消防通道为硬质铺装，该项目中经指定为隐形消防。 | F7: 1 | H7: 1 | K7: 1 | L7: 3 | M7: =IF(D7="合格",L7,IF(D7="合格知会",L7*0.5,0)) -> 1.5 | N7: =IF(D7="无效项",0,L7) -> 3 | O7: =F7*M7 -> 1.5 | P7: =F7*N7 -> 3 | Q7: =G7*M7 -> 0 | R7: =G7*N7 -> 0 | S7: =H7*M7 -> 1.5 | T7: =H7*N7 -> 3 | U7: =I7*M7 -> 0 | V7: =I7*N7 -> 0 | W7: =J7*M7 -> 0 | X7: =J7*N7 -> 0 | Y7: =K7*M7 -> 1.5 | Z7: =K7*N7 -> 3
C8: 景观总平面□是□否与最终铺装排版图尺寸一致 | D8: 合格知会 | G8: 1 | L8: 1 | M8: =IF(D8="合格",L8,IF(D8="合格知会",L8*0.5,0)) -> 0.5 | N8: =IF(D8="无效项",0,L8) -> 1 | O8: =F8*M8 -> 0 | P8: =F8*N8 -> 0 | Q8: =G8*M8 -> 0.5 | R8: =G8*N8 -> 1 | S8: =H8*M8 -> 0 | T8: =H8*N8 -> 0 | U8: =I8*M8 -> 0 | V8: =I8*N8 -> 0 | W8: =J8*M8 -> 0 | X8: =J8*N8 -> 0 | Y8: =K8*M8 -> 0 | Z8: =K8*N8 -> 0
C9: 小院划分标准□是□否有跟营销明确，若有，请提供配置标准__________ | D9: 合格知会 | F9: 1 | L9: 3 | M9: =IF(D9="合格",L9,IF(D9="合格知会",L9*0.5,0)) -> 1.5 | N9: =IF(D9="无效项",0,L9) -> 3 | O9: =F9*M9 -> 1.5 | P9: =F9*N9 -> 3 | Q9: =G9*M9 -> 0 | R9: =G9*N9 -> 0 | S9: =H9*M9 -> 0 | T9: =H9*N9 -> 0 | U9: =I9*M9 -> 0 | V9: =I9*N9 -> 0 | W9: =J9*M9 -> 0 | X9: =J9*N9 -> 0 | Y9: =K9*M9 -> 0 | Z9: =K9*N9 -> 0
B10: 总竖向图 | C10: 地库覆土最小深度为___1_______米。最大深度为____2.1______米；（原则上不小于1.0米，不大于1.5米，超过需要注明原因___________，超荷载部分□是□否有标明，处理措施____________参考20120819车库荷载图纸 | E10: 2#车库东侧2.1米覆土。2-2#楼南侧停车位东侧2.1米 | G10: 1 | I10: 1 | L10: 3 | M10: =IF(D10="合格",L10,IF(D10="合格知会",L10*0.5,0)) -> 0 | N10: =IF(D10="无效项",0,L10) -> 3 | O10: =F10*M10 -> 0 | P10: =F10*N10 -> 0 | Q10: =G10*M10 -> 0 | R10: =G10*N10 -> 3 | S10: =H10*M10 -> 0 | T10: =H10*N10 -> 0 | U10: =I10*M10 -> 0 | V10: =I10*N10 -> 3 | W10: =J10*M10 -> 0 | X10: =J10*N10 -> 0 | Y10: =K10*M10 -> 0 | Z10: =K10*N10 -> 0
C11: 主入口高差超过4.5m以上□是□否有考虑自动扶梯或直梯 | D11: 无效项 | F11: 1 | I11: 1 | L11: 1 | M11: =IF(D11="合格",L11,IF(D11="合格知会",L11*0.5,0)) -> 0 | N11: =IF(D11="无效项",0,L11) -> 0 | O11: =F11*M11 -> 0 | P11: =F11*N11 -> 0 | Q11: =G11*M11 -> 0 | R11: =G11*N11 -> 0 | S11: =H11*M11 -> 0 | T11: =H11*N11 -> 0 | U11: =I11*M11 -> 0 | V11: =I11*N11 -> 0 | W11: =J11*M11 -> 0 | X11: =J11*N11 -> 0 | Y11: =K11*M11 -> 0 | Z11: =K11*N11 -> 0
C12: 建筑周边地形□是□否有反坡，若有，请说明排水方式__________ | D12: 无效项 | G12: 1 | L12: 1 | M12: =IF(D12="合格",L12,IF(D12="合格知会",L12*0.5,0)) -> 0 | N12: =IF(D12="无效项",0,L12) -> 0 | O12: =F12*M12 -> 0 | P12: =F12*N12 -> 0 | Q12: =G12*M12 -> 0 | R12: =G12*N12 -> 0 | S12: =H12*M12 -> 0 | T12: =H12*N12 -> 0 | U12: =I12*M12 -> 0 | V12: =I12*N12 -> 0 | W12: =J12*M12 -> 0 | X12: =J12*N12 -> 0 | Y12: =K12*M12 -> 0 | Z12: =K12*N12 -> 0
C13: 室外□是□否有一步台阶（不应，有安全隐患）； | D13: 无效项 | F13: 1 | K13: 1 | L13: 1 | M13: =IF(D13="合格",L13,IF(D13="合格知会",L13*0.5,0)) -> 0 | N13: =IF(D13="无效项",0,L13) -> 0 | O13: =F13*M13 -> 0 | P13: =F13*N13 -> 0 | Q13: =G13*M13 -> 0 | R13: =G13*N13 -> 0 | S13: =H13*M13 -> 0 | T13: =H13*N13 -> 0 | U13: =I13*M13 -> 0 | V13: =I13*N13 -> 0 | W13: =J13*M13 -> 0 | X13: =J13*N13 -> 0 | Y13: =K13*M13 -> 0 | Z13: =K13*N13 -> 0
C14: 道路路边绿化完成面标高比硬质完成面标高低________低8__（不小于5cm） | G14: 1 | L14: 1 | M14: =IF(D14="合格",L14,IF(D14="合格知会",L14*0.5,0)) -> 0 | N14: =IF(D14="无效项",0,L14) -> 1 | O14: =F14*M14 -> 0 | P14: =F14*N14 -> 0 | Q14: =G14*M14 -> 0 | R14: =G14*N14 -> 1 | S14: =H14*M14 -> 0 | T14: =H14*N14 -> 0 | U14: =I14*M14 -> 0 | V14: =I14*N14 -> 0 | W14: =J14*M14 -> 0 | X14: =J14*N14 -> 0 | Y14: =K14*M14 -> 0 | Z14: =K14*N14 -> 0
C15: 道路最低点□是□否有设置排水井 | D15: 合格知会 | G15: 1 | J15: 1 | L15: 1 | M15: =IF(D15="合格",L15,IF(D15="合格知会",L15*0.5,0)) -> 0.5 | N15: =IF(D15="无效项",0,L15) -> 1 | O15: =F15*M15 -> 0 | P15: =F15*N15 -> 0 | Q15: =G15*M15 -> 0.5 | R15: =G15*N15 -> 1 | S15: =H15*M15 -> 0 | T15: =H15*N15 -> 0 | U15: =I15*M15 -> 0 | V15: =I15*N15 -> 0 | W15: =J15*M15 -> 0.5 | X15: =J15*N15 -> 1 | Y15: =K15*M15 -> 0 | Z15: =K15*N15 -> 0
B16: 总铺装平面图 | C16: 铺装□是□否为施工图排版图 | D16: 合格知会 | G16: 1 | L16: 3 | M16: =IF(D16="合格",L16,IF(D16="合格知会",L16*0.5,0)) -> 1.5 | N16: =IF(D16="无效项",0,L16) -> 3 | O16: =F16*M16 -> 0 | P16: =F16*N16 -> 0 | Q16: =G16*M16 -> 1.5 | R16: =G16*N16 -> 3 | S16: =H16*M16 -> 0 | T16: =H16*N16 -> 0 | U16: =I16*M16 -> 0 | V16: =I16*N16 -> 0 | W16: =J16*M16 -> 0 | X16: =J16*N16 -> 0 | Y16: =K16*M16 -> 0 | Z16: =K16*N16 -> 0
C17: 弧形园路或异形铺装□是□否明确标注定制加工（避免现场加工） | D17: 合格知会 | G17: 1 | L17: 1 | M17: =IF(D17="合格",L17,IF(D17="合格知会",L17*0.5,0)) -> 0.5 | N17: =IF(D17="无效项",0,L17) -> 1 | O17: =F17*M17 -> 0 | P17: =F17*N17 -> 0 | Q17: =G17*M17 -> 0.5 | R17: =G17*N17 -> 1 | S17: =H17*M17 -> 0 | T17: =H17*N17 -> 0 | U17: =I17*M17 -> 0 | V17: =I17*N17 -> 0 | W17: =J17*M17 -> 0 | X17: =J17*N17 -> 0 | Y17: =K17*M17 -> 0 | Z17: =K17*N17 -> 0
C18: 不同材质交界处衔接□是□否有标注 | D18: 整改 | K18: 1 | L18: 1 | M18: =IF(D18="合格",L18,IF(D18="合格知会",L18*0.5,0)) -> 0 | N18: =IF(D18="无效项",0,L18) -> 1 | O18: =F18*M18 -> 0 | P18: =F18*N18 -> 0 | Q18: =G18*M18 -> 0 | R18: =G18*N18 -> 0 | S18: =H18*M18 -> 0 | T18: =H18*N18 -> 0 | U18: =I18*M18 -> 0 | V18: =I18*N18 -> 0 | W18: =J18*M18 -> 0 | X18: =J18*N18 -> 0 | Y18: =K18*M18 -> 0 | Z18: =K18*N18 -> 1
C19: □是□否有出现细小规格的石材（小于50mm）人字铺或席纹铺，费工费料 | G19: 1 | I19: 1 | L19: 3 | M19: =IF(D19="合格",L19,IF(D19="合格知会",L19*0.5,0)) -> 0 | N19: =IF(D19="无效项",0,L19) -> 3 | O19: =F19*M19 -> 0 | P19: =F19*N19 -> 0 | Q19: =G19*M19 -> 0 | R19: =G19*N19 -> 3 | S19: =H19*M19 -> 0 | T19: =H19*N19 -> 0 | U19: =I19*M19 -> 0 | V19: =I19*N19 -> 3 | W19: =J19*M19 -> 0 | X19: =J19*N19 -> 0 | Y19: =K19*M19 -> 0 | Z19: =K19*N19 -> 0
C20: 外露波打线最小厚度____________（不宜低于50mm，且侧面不得为机切面） | K20: 1 | L20: 1 | M20: =IF(D20="合格",L20,IF(D20="合格知会",L20*0.5,0)) -> 0 | N20: =IF(D20="无效项",0,L20) -> 1 | O20: =F20*M20 -> 0 | P20: =F20*N20 -> 0 | Q20: =G20*M20 -> 0 | R20: =G20*N20 -> 0 | S20: =H20*M20 -> 0 | T20: =H20*N20 -> 0 | U20: =I20*M20 -> 0 | V20: =I20*N20 -> 0 | W20: =J20*M20 -> 0 | X20: =J20*N20 -> 0 | Y20: =K20*M20 -> 0 | Z20: =K20*N20 -> 1
C21: 人行铺装面层厚度_______mm（一般30mm为宜），车行铺装面层厚度_______mm（一般50mm为宜）。 | D21: 合格知会 | G21: 1 | I21: 1 | L21: 1 | M21: =IF(D21="合格",L21,IF(D21="合格知会",L21*0.5,0)) -> 0.5 | N21: =IF(D21="无效项",0,L21) -> 1 | O21: =F21*M21 -> 0 | P21: =F21*N21 -> 0 | Q21: =G21*M21 -> 0.5 | R21: =G21*N21 -> 1 | S21: =H21*M21 -> 0 | T21: =H21*N21 -> 0 | U21: =I21*M21 -> 0.5 | V21: =I21*N21 -> 1 | W21: =J21*M21 -> 0 | X21: =J21*N21 -> 0 | Y21: =K21*M21 -> 0 | Z21: =K21*N21 -> 0
B22: 灯具布置图 | C22: 庭院灯距离住宅最近尺寸______（建议不低于5m） | D22: 合格知会 | F22: 1 | L22: 1 | M22: =IF(D22="合格",L22,IF(D22="合格知会",L22*0.5,0)) -> 0.5 | N22: =IF(D22="无效项",0,L22) -> 1 | O22: =F22*M22 -> 0.5 | P22: =F22*N22 -> 1 | Q22: =G22*M22 -> 0 | R22: =G22*N22 -> 0 | S22: =H22*M22 -> 0 | T22: =H22*N22 -> 0 | U22: =I22*M22 -> 0 | V22: =I22*N22 -> 0 | W22: =J22*M22 -> 0 | X22: =J22*N22 -> 0 | Y22: =K22*M22 -> 0 | Z22: =K22*N22 -> 0
C23: 草坪灯最近间距______________，庭院灯最近间距___________（庭院灯建议8-12m，草坪灯建议6-8m） | D23: 合格知会 | F23: 1 | I23: 1 | L23: 1 | M23: =IF(D23="合格",L23,IF(D23="合格知会",L23*0.5,0)) -> 0.5 | N23: =IF(D23="无效项",0,L23) -> 1 | O23: =F23*M23 -> 0.5 | P23: =F23*N23 -> 1 | Q23: =G23*M23 -> 0 | R23: =G23*N23 -> 0 | S23: =H23*M23 -> 0 | T23: =H23*N23 -> 0 | U23: =I23*M23 -> 0.5 | V23: =I23*N23 -> 1 | W23: =J23*M23 -> 0 | X23: =J23*N23 -> 0 | Y23: =K23*M23 -> 0 | Z23: =K23*N23 -> 0
B24: 家具布置图 | C24: 运动场地、儿童活动场地□是□否有布置家具，形式____________ | E24: 成品座椅 | F24: 1 | L24: 1 | M24: =IF(D24="合格",L24,IF(D24="合格知会",L24*0.5,0)) -> 0 | N24: =IF(D24="无效项",0,L24) -> 1 | O24: =F24*M24 -> 0 | P24: =F24*N24 -> 1 | Q24: =G24*M24 -> 0 | R24: =G24*N24 -> 0 | S24: =H24*M24 -> 0 | T24: =H24*N24 -> 0 | U24: =I24*M24 -> 0 | V24: =I24*N24 -> 0 | W24: =J24*M24 -> 0 | X24: =J24*N24 -> 0 | Y24: =K24*M24 -> 0 | Z24: =K24*N24 -> 0
F25: =SUM(F4:F24) -> 7 | G25: =SUM(G4:G24) -> 9 | H25: =SUM(H4:H24) -> 3 | I25: =SUM(I4:I24) -> 5 | J25: =SUM(J4:J24) -> 1 | K25: =SUM(K4:K24) -> 7 | L25: =SUM(L4:L24) -> 37 | M25: =SUM(M4:M24) -> 12 | ... Z25: =SUM(Z4:Z24) -> 14
F27: 11 | G27: 15 | H27: 11 | I27: 9 | J27: 1 | K27: 15
C56: 合格
C57: 整改
C58: 合格知会
C59: 被迫知会
C60: 无效项

Sheet 详图
A1: __________项目_______地块景观工作界面审查
A2: 审查阶段 | B2: 审查项 | C2: 审查要点 | D2: 审核意见 | E2: 备注 | F2: 分类标签 | L2: 总分（92分） | O2: 分类统计
F3: 客户 （要求知会营销、客服） | G3: 进度以及质量 （知会工程部） | H3: 开发 （知会开发部） | I3: 成本 （知会成本部） | J3: 维保 （知会物业） | K3: 纯设计问题 | L3: 分值 | M3: 得分 | N3: 有效分数 | O3: 客户 得分 | P3: 客户有效分 | Q3: 工程 得分 | R3: 工程有效分 | S3: 开发 得分 | T3: 开发有效分 | U3: 成本 得分 | V3: 成本有效分 | W3: 维保得分 | X3: 维保有效分 | Y3: 设计得分 | Z3: 设计有效分
A4: 详图 | B4: 构筑物 | C4: 构筑物数量_____2____个（刚需项目建议不超过3个，岗亭除外）。 | E4: 北侧入口门廊、活动场地廊架 | I4: 1 | L4: 3 | M4: =IF(D4="合格",L4,IF(D4="合格知会",L4*0.5,0)) -> 0 | N4: =IF(D4="无效项",0,L4) -> 3 | O4: =F4*M4 -> 0 | P4: =F4*N4 -> 0 | Q4: =G4*M4 -> 0 | R4: =G4*N4 -> 0 | S4: =H4*M4 -> 0 | T4: =H4*N4 -> 0 | U4: =I4*M4 -> 0 | V4: =I4*N4 -> 3 | W4: =J4*M4 -> 0 | X4: =J4*N4 -> 0 | Y4: =K4*M4 -> 0 | Z4: =K4*N4 -> 0
C5: 构筑物的墙、梁、柱图纸与结构图□是□否一致。 | K5: 1 | L5: 3 | M5: =IF(D5="合格",L5,IF(D5="合格知会",L5*0.5,0)) -> 0 | N5: =IF(D5="无效项",0,L5) -> 3 | O5: =F5*M5 -> 0 | P5: =F5*N5 -> 0 | Q5: =G5*M5 -> 0 | R5: =G5*N5 -> 0 | S5: =H5*M5 -> 0 | T5: =H5*N5 -> 0 | U5: =I5*M5 -> 0 | V5: =I5*N5 -> 0 | W5: =J5*M5 -> 0 | X5: =J5*N5 -> 0 | Y5: =K5*M5 -> 0 | Z5: =K5*N5 -> 3
C6: 立面饰面材料规格600mm以上，高度1.8米以上，施工工艺做法□干挂□湿挂□湿贴（宜采用干挂或湿挂） | G6: 1 | L6: 1 | M6: =IF(D6="合格",L6,IF(D6="合格知会",L6*0.5,0)) -> 0 | N6: =IF(D6="无效项",0,L6) -> 1 | O6: =F6*M6 -> 0 | P6: =F6*N6 -> 0 | Q6: =G6*M6 -> 0 | R6: =G6*N6 -> 1 | S6: =H6*M6 -> 0 | T6: =H6*N6 -> 0 | U6: =I6*M6 -> 0 | V6: =I6*N6 -> 0 | W6: =J6*M6 -> 0 | X6: =J6*N6 -> 0 | Y6: =K6*M6 -> 0 | Z6: =K6*N6 -> 0
C7: 木质构筑物的木材选用___________（不宜选用樟子松，易开裂，可以考虑红雪松等） | E7: 目前图中是樟子松 | G7: 1 | J7: 1 | L7: 1 | M7: =IF(D7="合格",L7,IF(D7="合格知会",L7*0.5,0)) -> 0 | N7: =IF(D7="无效项",0,L7) -> 1 | O7: =F7*M7 -> 0 | P7: =F7*N7 -> 0 | Q7: =G7*M7 -> 0 | R7: =G7*N7 -> 1 | S7: =H7*M7 -> 0 | T7: =H7*N7 -> 0 | U7: =I7*M7 -> 0 | V7: =I7*N7 -> 0 | W7: =J7*M7 -> 0 | X7: =J7*N7 -> 1 | Y7: =K7*M7 -> 0 | Z7: =K7*N7 -> 0
C8: 构筑物□是□否设置休息坐凳，如否，请说明原因____________ | F8: 1 | L8: 1 | M8: =IF(D8="合格",L8,IF(D8="合格知会",L8*0.5,0)) -> 0 | N8: =IF(D8="无效项",0,L8) -> 1 | O8: =F8*M8 -> 0 | P8: =F8*N8 -> 1 | Q8: =G8*M8 -> 0 | R8: =G8*N8 -> 0 | S8: =H8*M8 -> 0 | T8: =H8*N8 -> 0 | U8: =I8*M8 -> 0 | V8: =I8*N8 -> 0 | W8: =J8*M8 -> 0 | X8: =J8*N8 -> 0 | Y8: =K8*M8 -> 0 | Z8: =K8*N8 -> 0
C9: 构筑物灯光设计□是□否考虑，如否，请说明原因____________ | E9: 有考虑 | F9: 1 | L9: 1 | M9: =IF(D9="合格",L9,IF(D9="合格知会",L9*0.5,0)) -> 0 | N9: =IF(D9="无效项",0,L9) -> 1 | O9: =F9*M9 -> 0 | P9: =F9*N9 -> 1 | Q9: =G9*M9 -> 0 | R9: =G9*N9 -> 0 | S9: =H9*M9 -> 0 | T9: =H9*N9 -> 0 | U9: =I9*M9 -> 0 | V9: =I9*N9 -> 0 | W9: =J9*M9 -> 0 | X9: =J9*N9 -> 0 | Y9: =K9*M9 -> 0 | Z9: =K9*N9 -> 0
B10: 水景 | C10: □是□否距岸2米范围内水深超过500水景；□是□否设防护栏杆（如超过500，岸边必须加防护栏杆）。 | D10: 无效项 | F10: 1 | L10: 5 | M10: =IF(D10="合格",L10,IF(D10="合格知会",L10*0.5,0)) -> 0 | N10: =IF(D10="无效项",0,L10) -> 0 | O10: =F10*M10 -> 0 | P10: =F10*N10 -> 0 | Q10: =G10*M10 -> 0 | R10: =G10*N10 -> 0 | S10: =H10*M10 -> 0 | T10: =H10*N10 -> 0 | U10: =I10*M10 -> 0 | V10: =I10*N10 -> 0 | W10: =J10*M10 -> 0 | X10: =J10*N10 -> 0 | Y10: =K10*M10 -> 0 | Z10: =K10*N10 -> 0
C11: 嬉水池深度________（小于300，以防止儿童溺水），同时水底 防滑处理为____________。 | D11: 无效项 | F11: 1 | L11: 3 | M11: =IF(D11="合格",L11,IF(D11="合格知会",L11*0.5,0)) -> 0 | N11: =IF(D11="无效项",0,L11) -> 0 | O11: =F11*M11 -> 0 | P11: =F11*N11 -> 0 | Q11: =G11*M11 -> 0 | R11: =G11*N11 -> 0 | S11: =H11*M11 -> 0 | T11: =H11*N11 -> 0 | U11: =I11*M11 -> 0 | V11: =I11*N11 -> 0 | W11: =J11*M11 -> 0 | X11: =J11*N11 -> 0 | Y11: =K11*M11 -> 0 | Z11: =K11*N11 -> 0
C12: 泵坑位置_____________，泵坑□是□否水体分离（不建议设置于水池内，从安全考虑，尽可能独立设置）；泳池泵房位置________，在平立剖面图中 □是□否统一。 | D12: 无效项 | K12: 1 | L12: 3 | M12: =IF(D12="合格",L12,IF(D12="合格知会",L12*0.5,0)) -> 0 | N12: =IF(D12="无效项",0,L12) -> 0 | O12: =F12*M12 -> 0 | P12: =F12*N12 -> 0 | Q12: =G12*M12 -> 0 | R12: =G12*N12 -> 0 | S12: =H12*M12 -> 0 | T12: =H12*N12 -> 0 | U12: =I12*M12 -> 0 | V12: =I12*N12 -> 0 | W12: =J12*M12 -> 0 | X12: =J12*N12 -> 0 | Y12: =K12*M12 -> 0 | Z12: =K12*N12 -> 0
C13: 给水口、排水口、溢水口、补水口位置 □是□否在主观赏面上（建议隐蔽设置）形式____________ | D13: 无效项 | K13: 1 | L13: 1 | M13: =IF(D13="合格",L13,IF(D13="合格知会",L13*0.5,0)) -> 0 | N13: =IF(D13="无效项",0,L13) -> 0 | O13: =F13*M13 -> 0 | P13: =F13*N13 -> 0 | Q13: =G13*M13 -> 0 | R13: =G13*N13 -> 0 | S13: =H13*M13 -> 0 | T13: =H13*N13 -> 0 | U13: =I13*M13 -> 0 | V13: =I13*N13 -> 0 | W13: =J13*M13 -> 0 | X13: =J13*N13 -> 0 | Y13: =K13*M13 -> 0 | Z13: =K13*N13 -> 0
C14: 水景饰面防泛碱措施□是□否考虑。（尽可能使用干挂形式；结构面外设计加做防水层或面层石材尽量设计为大板，减少石材拼缝，避免拼缝处水的渗入溢出） | D14: 无效项 | G14: 1 | L14: 1 | M14: =IF(D14="合格",L14,IF(D14="合格知会",L14*0.5,0)) -> 0 | N14: =IF(D14="无效项",0,L14) -> 0 | O14: =F14*M14 -> 0 | P14: =F14*N14 -> 0 | Q14: =G14*M14 -> 0 | R14: =G14*N14 -> 0 | S14: =H14*M14 -> 0 | T14: =H14*N14 -> 0 | U14: =I14*M14 -> 0 | V14: =I14*N14 -> 0 | W14: =J14*M14 -> 0 | X14: =J14*N14 -> 0 | Y14: =K14*M14 -> 0 | Z14: =K14*N14 -> 0
B15: 围墙/挡土墙 | C15: 围墙安防形式为□红外感应□电子脉冲□其他____________，安防系统安装位置 □是□否 与植物冲突。 | J15: 1 | L15: 1 | M15: =IF(D15="合格",L15,IF(D15="合格知会",L15*0.5,0)) -> 0 | N15: =IF(D15="无效项",0,L15) -> 1 | O15: =F15*M15 -> 0 | P15: =F15*N15 -> 0 | Q15: =G15*M15 -> 0 | R15: =G15*N15 -> 0 | S15: =H15*M15 -> 0 | T15: =H15*N15 -> 0 | U15: =I15*M15 -> 0 | V15: =I15*N15 -> 0 | W15: =J15*M15 -> 0 | X15: =J15*N15 -> 1 | Y15: =K15*M15 -> 0 | Z15: =K15*N15 -> 0
C16: 挡土墙 □是□否 设置排水孔。（一般10米设一个直径75mm的排水孔） | E16: 设置，见总说明，间距3米 | G16: 1 | L16: 3 | M16: =IF(D16="合格",L16,IF(D16="合格知会",L16*0.5,0)) -> 0 | N16: =IF(D16="无效项",0,L16) -> 3 | O16: =F16*M16 -> 0 | P16: =F16*N16 -> 0 | Q16: =G16*M16 -> 0 | R16: =G16*N16 -> 3 | S16: =H16*M16 -> 0 | T16: =H16*N16 -> 0 | U16: =I16*M16 -> 0 | V16: =I16*N16 -> 0 | W16: =J16*M16 -> 0 | X16: =J16*N16 -> 0 | Y16: =K16*M16 -> 0 | Z16: =K16*N16 -> 0
C17: 钢筋混凝土挡土墙 □是□否 设伸缩缝，配筋墙体每______10-15__m（一般30m）设一道，无筋墙体每________m（一般10m）设一道。 | E17: 设置，见总说明 | G17: 1 | L17: 3 | M17: =IF(D17="合格",L17,IF(D17="合格知会",L17*0.5,0)) -> 0 | N17: =IF(D17="无效项",0,L17) -> 3 | O17: =F17*M17 -> 0 | P17: =F17*N17 -> 0 | Q17: =G17*M17 -> 0 | R17: =G17*N17 -> 3 | S17: =H17*M17 -> 0 | T17: =H17*N17 -> 0 | U17: =I17*M17 -> 0 | V17: =I17*N17 -> 0 | W17: =J17*M17 -> 0 | X17: =J17*N17 -> 0 | Y17: =K17*M17 -> 0 | Z17: =K17*N17 -> 0
B18: 栏杆 | C18: 栏杆□是□否 存在易攀爬样式。 | F18: 1 | J18: 1 | L18: 3 | M18: =IF(D18="合格",L18,IF(D18="合格知会",L18*0.5,0)) -> 0 | N18: =IF(D18="无效项",0,L18) -> 3 | O18: =F18*M18 -> 0 | P18: =F18*N18 -> 3 | Q18: =G18*M18 -> 0 | R18: =G18*N18 -> 0 | S18: =H18*M18 -> 0 | T18: =H18*N18 -> 0 | U18: =I18*M18 -> 0 | V18: =I18*N18 -> 0 | W18: =J18*M18 -> 0 | X18: =J18*N18 -> 3 | Y18: =K18*M18 -> 0 | Z18: =K18*N18 -> 0
C19: 围栏、栅栏竖杆的间距__110______mm（不应大于110mm）。 | E19: 110mm | J19: 1 | L19: 3 | M19: =IF(D19="合格",L19,IF(D19="合格知会",L19*0.5,0)) -> 0 | N19: =IF(D19="无效项",0,L19) -> 3 | O19: =F19*M19 -> 0 | P19: =F19*N19 -> 0 | Q19: =G19*M19 -> 0 | R19: =G19*N19 -> 0 | S19: =H19*M19 -> 0 | T19: =H19*N19 -> 0 | U19: =I19*M19 -> 0 | V19: =I19*N19 -> 0 | W19: =J19*M19 -> 0 | X19: =J19*N19 -> 3 | Y19: =K19*M19 -> 0 | Z19: =K19*N19 -> 0
B20: 活动场地 | C20: 运动区地面 铺装材料__________（建议防滑，同时满足易清洗、耐磨、耐腐蚀的要求。） | D20: 无效项 | F20: 1 | G20: 1 | L20: 1 | M20: =IF(D20="合格",L20,IF(D20="合格知会",L20*0.5,0)) -> 0 | N20: =IF(D20="无效项",0,L20) -> 0 | O20: =F20*M20 -> 0 | P20: =F20*N20 -> 0 | Q20: =G20*M20 -> 0 | R20: =G20*N20 -> 0 | S20: =H20*M20 -> 0 | T20: =H20*N20 -> 0 | U20: =I20*M20 -> 0 | V20: =I20*N20 -> 0 | W20: =J20*M20 -> 0 | X20: =J20*N20 -> 0 | Y20: =K20*M20 -> 0 | Z20: =K20*N20 -> 0
C21: 活动场地距离住宅最近为_____10_______ （ 充分考虑儿童活动产生的嘈杂声对附近居民的影响，离开居民窗户10m远为宜。） | E21: 10mi | F21: 1 | L21: 5 | M21: =IF(D21="合格",L21,IF(D21="合格知会",L21*0.5,0)) -> 0 | N21: =IF(D21="无效项",0,L21) -> 5 | O21: =F21*M21 -> 0 | P21: =F21*N21 -> 5 | Q21: =G21*M21 -> 0 | R21: =G21*N21 -> 0 | S21: =H21*M21 -> 0 | T21: =H21*N21 -> 0 | U21: =I21*M21 -> 0 | V21: =I21*N21 -> 0 | W21: =J21*M21 -> 0 | X21: =J21*N21 -> 0 | Y21: =K21*M21 -> 0 | Z21: =K21*N21 -> 0
C22: 运动场地周围□是□否有绿化围合（至少2米的绿化，隔绝噪音） | F22: 1 | L22: 1 | M22: =IF(D22="合格",L22,IF(D22="合格知会",L22*0.5,0)) -> 0 | N22: =IF(D22="无效项",0,L22) -> 1 | O22: =F22*M22 -> 0 | P22: =F22*N22 -> 1 | Q22: =G22*M22 -> 0 | R22: =G22*N22 -> 0 | S22: =H22*M22 -> 0 | T22: =H22*N22 -> 0 | U22: =I22*M22 -> 0 | V22: =I22*N22 -> 0 | W22: =J22*M22 -> 0 | X22: =J22*N22 -> 0 | Y22: =K22*M22 -> 0 | Z22: =K22*N22 -> 0
C23: 儿童游乐场地面铺装 □是□否 用弹性材料，游乐设施所有边缘至安全垫外轮廓________（需大于1.2m以上），所有游乐设施的儿童活动进出口至安全垫外轮廓________（需大于1.8m以上）。 | E23: 目前只有沙坑 | F23: 1 | L23: 1 | M23: =IF(D23="合格",L23,IF(D23="合格知会",L23*0.5,0)) -> 0 | N23: =IF(D23="无效项",0,L23) -> 1 | O23: =F23*M23 -> 0 | P23: =F23*N23 -> 1 | Q23: =G23*M23 -> 0 | R23: =G23*N23 -> 0 | S23: =H23*M23 -> 0 | T23: =H23*N23 -> 0 | U23: =I23*M23 -> 0 | V23: =I23*N23 -> 0 | W23: =J23*M23 -> 0 | X23: =J23*N23 -> 0 | Y23: =K23*M23 -> 0 | Z23: =K23*N23 -> 0
B24: 台阶/坡道 | C24: 踏面 □是□否 做防滑处理，并保持1％的排水坡度。 | D24: 合格知会 | F24: 1 | L24: 1 | M24: =IF(D24="合格",L24,IF(D24="合格知会",L24*0.5,0)) -> 0.5 | N24: =IF(D24="无效项",0,L24) -> 1 | O24: =F24*M24 -> 0.5 | P24: =F24*N24 -> 1 | Q24: =G24*M24 -> 0 | R24: =G24*N24 -> 0 | S24: =H24*M24 -> 0 | T24: =H24*N24 -> 0 | U24: =I24*M24 -> 0 | V24: =I24*N24 -> 0 | W24: =J24*M24 -> 0 | X24: =J24*N24 -> 0 | Y24: =K24*M24 -> 0 | Z24: =K24*N24 -> 0
C25: 活动场地周边道路□是□否设置台阶（不宜设置） | D25: 合格知会 | F25: 1 | L25: 5 | M25: =IF(D25="合格",L25,IF(D25="合格知会",L25*0.5,0)) -> 2.5 | N25: =IF(D25="无效项",0,L25) -> 5 | O25: =F25*M25 -> 2.5 | P25: =F25*N25 -> 5 | Q25: =G25*M25 -> 0 | R25: =G25*N25 -> 0 | S25: =H25*M25 -> 0 | T25: =H25*N25 -> 0 | U25: =I25*M25 -> 0 | V25: =I25*N25 -> 0 | W25: =J25*M25 -> 0 | X25: =J25*N25 -> 0 | Y25: =K25*M25 -> 0 | Z25: =K25*N25 -> 0
C26: 台阶附近 □是□否 设照明装置，人员集中的场所 □是□否 在台阶踏步上暗装地灯。若预留LED灯槽，宽度为___________（建议不少于50mm） | F26: 1 | G26: 1 | L26: 3 | M26: =IF(D26="合格",L26,IF(D26="合格知会",L26*0.5,0)) -> 0 | N26: =IF(D26="无效项",0,L26) -> 3 | O26: =F26*M26 -> 0 | P26: =F26*N26 -> 3 | Q26: =G26*M26 -> 0 | R26: =G26*N26 -> 3 | S26: =H26*M26 -> 0 | T26: =H26*N26 -> 0 | U26: =I26*M26 -> 0 | V26: =I26*N26 -> 0 | W26: =J26*M26 -> 0 | X26: =J26*N26 -> 0 | Y26: =K26*M26 -> 0 | Z26: =K26*N26 -> 0
B27: 花坛/坐凳 | C27: 种植花钵 □是□否 预留排水（防止烂根）。 | G27: 1 | L27: 1 | M27: =IF(D27="合格",L27,IF(D27="合格知会",L27*0.5,0)) -> 0 | N27: =IF(D27="无效项",0,L27) -> 1 | O27: =F27*M27 -> 0 | P27: =F27*N27 -> 0 | Q27: =G27*M27 -> 0 | R27: =G27*N27 -> 1 | S27: =H27*M27 -> 0 | T27: =H27*N27 -> 0 | U27: =I27*M27 -> 0 | V27: =I27*N27 -> 0 | W27: =J27*M27 -> 0 | X27: =J27*N27 -> 0 | Y27: =K27*M27 -> 0 | Z27: =K27*N27 -> 0
C28: 最小树池内径______（建议不低于1.2米）。 | G28: 1 | L28: 3 | M28: =IF(D28="合格",L28,IF(D28="合格知会",L28*0.5,0)) -> 0 | N28: =IF(D28="无效项",0,L28) -> 3 | O28: =F28*M28 -> 0 | P28: =F28*N28 -> 0 | Q28: =G28*M28 -> 0 | R28: =G28*N28 -> 3 | S28: =H28*M28 -> 0 | T28: =H28*N28 -> 0 | U28: =I28*M28 -> 0 | V28: =I28*N28 -> 0 | W28: =J28*M28 -> 0 | X28: =J28*N28 -> 0 | Y28: =K28*M28 -> 0 | Z28: =K28*N28 -> 0
C29: 特制座椅转角处 □是□否 作磨边倒角处理。 | F29: 1 | L29: 1 | M29: =IF(D29="合格",L29,IF(D29="合格知会",L29*0.5,0)) -> 0 | N29: =IF(D29="无效项",0,L29) -> 1 | O29: =F29*M29 -> 0 | P29: =F29*N29 -> 1 | Q29: =G29*M29 -> 0 | R29: =G29*N29 -> 0 | S29: =H29*M29 -> 0 | T29: =H29*N29 -> 0 | U29: =I29*M29 -> 0 | V29: =I29*N29 -> 0 | W29: =J29*M29 -> 0 | X29: =J29*N29 -> 0 | Y29: =K29*M29 -> 0 | Z29: =K29*N29 -> 0
A30: 通用图 | B30: 道路 | C30: 车行道路混凝土基础厚度为__________200C20_____（原则上不大于200，不小于150），人行道路混凝土基础厚度为____100___________（原则上不大于120，不小于80） | G30: 1 | I30: 1 | L30: 3 | M30: =IF(D30="合格",L30,IF(D30="合格知会",L30*0.5,0)) -> 0 | N30: =IF(D30="无效项",0,L30) -> 3 | O30: =F30*M30 -> 0 | P30: =F30*N30 -> 0 | Q30: =G30*M30 -> 0 | R30: =G30*N30 -> 3 | S30: =H30*M30 -> 0 | T30: =H30*N30 -> 0 | U30: =I30*M30 -> 0 | V30: =I30*N30 -> 3 | W30: =J30*M30 -> 0 | X30: =J30*N30 -> 0 | Y30: =K30*M30 -> 0 | Z30: =K30*N30 -> 0
C31: 沥青道路基础为□混凝土□灰土□其他（因施工便利，建议采用混凝土构造） | E31: 甲方外包 | G31: 1 | L31: 3 | M31: =IF(D31="合格",L31,IF(D31="合格知会",L31*0.5,0)) -> 0 | N31: =IF(D31="无效项",0,L31) -> 3 | O31: =F31*M31 -> 0 | P31: =F31*N31 -> 0 | Q31: =G31*M31 -> 0 | R31: =G31*N31 -> 3 | S31: =H31*M31 -> 0 | T31: =H31*N31 -> 0 | U31: =I31*M31 -> 0 | V31: =I31*N31 -> 0 | W31: =J31*M31 -> 0 | X31: =J31*N31 -> 0 | Y31: =K31*M31 -> 0 | Z31: =K31*N31 -> 0
C32: 道路侧石为□花岗岩□混凝土□混凝土仿石材,□是□否有平、侧石。 | E32: 495X300X100预制混凝土平道牙 | I32: 1 | L32: 5 | M32: =IF(D32="合格",L32,IF(D32="合格知会",L32*0.5,0)) -> 0 | N32: =IF(D32="无效项",0,L32) -> 5 | O32: =F32*M32 -> 0 | P32: =F32*N32 -> 0 | Q32: =G32*M32 -> 0 | R32: =G32*N32 -> 0 | S32: =H32*M32 -> 0 | T32: =H32*N32 -> 0 | U32: =I32*M32 -> 0 | V32: =I32*N32 -> 5 | W32: =J32*M32 -> 0 | X32: =J32*N32 -> 0 | Y32: =K32*M32 -> 0 | Z32: =K32*N32 -> 0
C33: 道路基础□是□否设置经济性的钢筋构造（应对软地基及过路管线位置） | G33: 1 | L33: 3 | M33: =IF(D33="合格",L33,IF(D33="合格知会",L33*0.5,0)) -> 0 | N33: =IF(D33="无效项",0,L33) -> 3 | O33: =F33*M33 -> 0 | P33: =F33*N33 -> 0 | Q33: =G33*M33 -> 0 | R33: =G33*N33 -> 3 | S33: =H33*M33 -> 0 | T33: =H33*N33 -> 0 | U33: =I33*M33 -> 0 | V33: =I33*N33 -> 0 | W33: =J33*M33 -> 0 | X33: =J33*N33 -> 0 | Y33: =K33*M33 -> 0 | Z33: =K33*N33 -> 0
C34: 消防道路□是□否隐形，面层做法为_______________； | E34: 隐形消防 | H34: 1 | I34: 1 | L34: 3 | M34: =IF(D34="合格",L34,IF(D34="合格知会",L34*0.5,0)) -> 0 | N34: =IF(D34="无效项",0,L34) -> 3 | O34: =F34*M34 -> 0 | P34: =F34*N34 -> 0 | Q34: =G34*M34 -> 0 | R34: =G34*N34 -> 0 | S34: =H34*M34 -> 0 | T34: =H34*N34 -> 3 | U34: =I34*M34 -> 0 | V34: =I34*N34 -> 3 | W34: =J34*M34 -> 0 | X34: =J34*N34 -> 0 | Y34: =K34*M34 -> 0 | Z34: =K34*N34 -> 0
B35: 停车位 | C35: 停车位主要材质为□砖□石材□其他（说明原因）_______________ | E35: 烧结砖 | I35: 1 | L35: 1 | M35: =IF(D35="合格",L35,IF(D35="合格知会",L35*0.5,0)) -> 0 | N35: =IF(D35="无效项",0,L35) -> 1 | O35: =F35*M35 -> 0 | P35: =F35*N35 -> 0 | Q35: =G35*M35 -> 0 | R35: =G35*N35 -> 0 | S35: =H35*M35 -> 0 | T35: =H35*N35 -> 0 | U35: =I35*M35 -> 0 | V35: =I35*N35 -> 1 | W35: =J35*M35 -> 0 | X35: =J35*N35 -> 0 | Y35: =K35*M35 -> 0 | Z35: =K35*N35 -> 0
C36: □是□否设置停车档，材质为□花岗岩□混凝土□混凝土仿石材□成品橡胶（不建议花岗岩车档；考虑经济性，建议利用侧石兼顾停车挡，后方预留车辆停放空间） | E36: 未设置 | F36: 1 | I36: 1 | L36: 1 | M36: =IF(D36="合格",L36,IF(D36="合格知会",L36*0.5,0)) -> 0 | N36: =IF(D36="无效项",0,L36) -> 1 | O36: =F36*M36 -> 0 | P36: =F36*N36 -> 1 | Q36: =G36*M36 -> 0 | R36: =G36*N36 -> 0 | S36: =H36*M36 -> 0 | T36: =H36*N36 -> 0 | U36: =I36*M36 -> 0 | V36: =I36*N36 -> 1 | W36: =J36*M36 -> 0 | X36: =J36*N36 -> 0 | Y36: =K36*M36 -> 0 | Z36: =K36*N36 -> 0
B37: 井盖 | C37: 装饰井盖材质为□不锈钢□镀锌钢□其他_______________（说明原因）_______________， | I37: 1 | L37: 1 | M37: =IF(D37="合格",L37,IF(D37="合格知会",L37*0.5,0)) -> 0 | N37: =IF(D37="无效项",0,L37) -> 1 | O37: =F37*M37 -> 0 | P37: =F37*N37 -> 0 | Q37: =G37*M37 -> 0 | R37: =G37*N37 -> 0 | S37: =H37*M37 -> 0 | T37: =H37*N37 -> 0 | U37: =I37*M37 -> 0 | V37: =I37*N37 -> 1 | W37: =J37*M37 -> 0 | X37: =J37*N37 -> 0 | Y37: =K37*M37 -> 0 | Z37: =K37*N37 -> 0
C38: □是□否装饰井盖底部是否设置加强筋（宜底部加强）， | G38: 1 | L38: 3 | M38: =IF(D38="合格",L38,IF(D38="合格知会",L38*0.5,0)) -> 0 | N38: =IF(D38="无效项",0,L38) -> 3 | O38: =F38*M38 -> 0 | P38: =F38*N38 -> 0 | Q38: =G38*M38 -> 0 | R38: =G38*N38 -> 3 | S38: =H38*M38 -> 0 | T38: =H38*N38 -> 0 | U38: =I38*M38 -> 0 | V38: =I38*N38 -> 0 | W38: =J38*M38 -> 0 | X38: =J38*N38 -> 0 | Y38: =K38*M38 -> 0 | Z38: =K38*N38 -> 0
C39: □是□否车行铺装是否设置双层井盖（底层为井盖最低选用C250型，宜双层） | G39: 1 | L39: 3 | M39: =IF(D39="合格",L39,IF(D39="合格知会",L39*0.5,0)) -> 0 | N39: =IF(D39="无效项",0,L39) -> 3 | O39: =F39*M39 -> 0 | P39: =F39*N39 -> 0 | Q39: =G39*M39 -> 0 | R39: =G39*N39 -> 3 | S39: =H39*M39 -> 0 | T39: =H39*N39 -> 0 | U39: =I39*M39 -> 0 | V39: =I39*N39 -> 0 | W39: =J39*M39 -> 0 | X39: =J39*N39 -> 0 | Y39: =K39*M39 -> 0 | Z39: =K39*N39 -> 0
B40: 残坡 | C40: □是□否为通用详图（不建议为通用图），净宽为_______________（不小于1100）坡度为_______________ | E40: 净宽1200 | K40: 1 | L40: 1 | M40: =IF(D40="合格",L40,IF(D40="合格知会",L40*0.5,0)) -> 0 | N40: =IF(D40="无效项",0,L40) -> 1 | O40: =F40*M40 -> 0 | P40: =F40*N40 -> 0 | Q40: =G40*M40 -> 0 | R40: =G40*N40 -> 0 | S40: =H40*M40 -> 0 | T40: =H40*N40 -> 0 | U40: =I40*M40 -> 0 | V40: =I40*N40 -> 0 | W40: =J40*M40 -> 0 | X40: =J40*N40 -> 0 | Y40: =K40*M40 -> 0 | Z40: =K40*N40 -> 1
...

Sheet 种植图
A1: __________项目________地块景观工作界面审查
A2: 审查阶段 | B2: 审查项 | C2: 审查要点 | D2: 审核意见 | E2: 备注 | F2: 分类标签 | L2: 总分（23分） | O2: 分类统计
F3: 客户 （要求知会营销、客服） | G3: 进度以及质量 （知会工程部） | H3: 开发 （知会开发部） | I3: 成本 （知会成本部） | J3: 维保 （知会物业） | K3: 纯设计问题 | L3: 分值 | M3: 得分 | N3: 有效分数 | O3: 客户 得分 | P3: 客户有效分 | Q3: 工程 得分 | R3: 工程有效分 | S3: 开发 得分 | T3: 开发有效分 | U3: 成本 得分 | V3: 成本有效分 | W3: 维保得分 | X3: 维保有效分 | Y3: 设计得分 | Z3: 设计有效分
A4: 种植图 | B4: 控制指标 | C4: 本项目中软硬比为 __________（原则上不易大于 3:7 ） | I4: 1 | L4: 5 | M4: =IF(D4="合格",L4,IF(D4="合格知会",L4*0.5,0)) -> 0 | N4: =IF(D4="无效项",0,L4) -> 5 | O4: =F4*M4 -> 0 | P4: =F4*N4 -> 0 | Q4: =G4*M4 -> 0 | R4: =G4*N4 -> 0 | S4: =H4*M4 -> 0 | T4: =H4*N4 -> 0 | U4: =I4*M4 -> 0 | V4: =I4*N4 -> 5 | W4: =J4*M4 -> 0 | X4: =J4*N4 -> 0 | Y4: =K4*M4 -> 0 | Z4: =K4*N4 -> 0
C5: 本项目软景中草坪：地被比例为 __________（原则上不易小于1:1） | I5: 1 | L5: 1 | M5: =IF(D5="合格",L5,IF(D5="合格知会",L5*0.5,0)) -> 0 | N5: =IF(D5="无效项",0,L5) -> 1 | O5: =F5*M5 -> 0 | P5: =F5*N5 -> 0 | Q5: =G5*M5 -> 0 | R5: =G5*N5 -> 0 | S5: =H5*M5 -> 0 | T5: =H5*N5 -> 0 | U5: =I5*M5 -> 0 | V5: =I5*N5 -> 1 | W5: =J5*M5 -> 0 | X5: =J5*N5 -> 0 | Y5: =K5*M5 -> 0 | Z5: =K5*N5 -> 0
C6: 本项目中百平方乔木密度（含大小乔木、花乔）___________________（原则上不易低于10株/百平方米） | K6: 1 | L6: 1 | M6: =IF(D6="合格",L6,IF(D6="合格知会",L6*0.5,0)) -> 0 | N6: =IF(D6="无效项",0,L6) -> 1 | O6: =F6*M6 -> 0 | P6: =F6*N6 -> 0 | Q6: =G6*M6 -> 0 | R6: =G6*N6 -> 0 | S6: =H6*M6 -> 0 | T6: =H6*N6 -> 0 | U6: =I6*M6 -> 0 | V6: =I6*N6 -> 0 | W6: =J6*M6 -> 0 | X6: =J6*N6 -> 0 | Y6: =K6*M6 -> 0 | Z6: =K6*N6 -> 1
B7: 控制要点 | C7: 住户入口、窗户前□是□否有种植遮挡或风水问题（不应出现） | F7: 1 | L7: 3 | M7: =IF(D7="合格",L7,IF(D7="合格知会",L7*0.5,0)) -> 0 | N7: =IF(D7="无效项",0,L7) -> 3 | O7: =F7*M7 -> 0 | P7: =F7*N7 -> 3 | Q7: =G7*M7 -> 0 | R7: =G7*N7 -> 0 | S7: =H7*M7 -> 0 | T7: =H7*N7 -> 0 | U7: =I7*M7 -> 0 | V7: =I7*N7 -> 0 | W7: =J7*M7 -> 0 | X7: =J7*N7 -> 0 | Y7: =K7*M7 -> 0 | Z7: =K7*N7 -> 0
C8: 功能配套用房及出地面构筑物□是□否有得到植物绿化、美化处理，处理方式________ | F8: 1 | L8: 1 | M8: =IF(D8="合格",L8,IF(D8="合格知会",L8*0.5,0)) -> 0 | N8: =IF(D8="无效项",0,L8) -> 1 | O8: =F8*M8 -> 0 | P8: =F8*N8 -> 1 | Q8: =G8*M8 -> 0 | R8: =G8*N8 -> 0 | S8: =H8*M8 -> 0 | T8: =H8*N8 -> 0 | U8: =I8*M8 -> 0 | V8: =I8*N8 -> 0 | W8: =J8*M8 -> 0 | X8: =J8*N8 -> 0 | Y8: =K8*M8 -> 0 | Z8: =K8*N8 -> 0
C9: 时令草花面积________________（建议不宜超过5%） | I9: 1 | J9: 1 | L9: 1 | M9: =IF(D9="合格",L9,IF(D9="合格知会",L9*0.5,0)) -> 0 | N9: =IF(D9="无效项",0,L9) -> 1 | O9: =F9*M9 -> 0 | P9: =F9*N9 -> 0 | Q9: =G9*M9 -> 0 | R9: =G9*N9 -> 0 | S9: =H9*M9 -> 0 | T9: =H9*N9 -> 0 | U9: =I9*M9 -> 0 | V9: =I9*N9 -> 1 | W9: =J9*M9 -> 0 | X9: =J9*N9 -> 1 | Y9: =K9*M9 -> 0 | Z9: =K9*N9 -> 0
B10: 品种 | C10: □是□否有设置带刺、有毒或有异味的植物（如夹竹桃） | F10: 1 | L10: 1 | M10: =IF(D10="合格",L10,IF(D10="合格知会",L10*0.5,0)) -> 0 | N10: =IF(D10="无效项",0,L10) -> 1 | O10: =F10*M10 -> 0 | P10: =F10*N10 -> 1 | Q10: =G10*M10 -> 0 | R10: =G10*N10 -> 0 | S10: =H10*M10 -> 0 | T10: =H10*N10 -> 0 | U10: =I10*M10 -> 0 | V10: =I10*N10 -> 0 | W10: =J10*M10 -> 0 | X10: =J10*N10 -> 0 | Y10: =K10*M10 -> 0 | Z10: =K10*N10 -> 0
C11: □是□否有设置造型树，如有，请说明位置及理由______________ | I11: 1 | L11: 1 | M11: =IF(D11="合格",L11,IF(D11="合格知会",L11*0.5,0)) -> 0 | N11: =IF(D11="无效项",0,L11) -> 1 | O11: =F11*M11 -> 0 | P11: =F11*N11 -> 0 | Q11: =G11*M11 -> 0 | R11: =G11*N11 -> 0 | S11: =H11*M11 -> 0 | T11: =H11*N11 -> 0 | U11: =I11*M11 -> 0 | V11: =I11*N11 -> 1 | W11: =J11*M11 -> 0 | X11: =J11*N11 -> 0 | Y11: =K11*M11 -> 0 | Z11: =K11*N11 -> 0
C12: □是□否使用名贵品种，请说明品种________________ | I12: 1 | L12: 1 | M12: =IF(D12="合格",L12,IF(D12="合格知会",L12*0.5,0)) -> 0 | N12: =IF(D12="无效项",0,L12) -> 1 | O12: =F12*M12 -> 0 | P12: =F12*N12 -> 0 | Q12: =G12*M12 -> 0 | R12: =G12*N12 -> 0 | S12: =H12*M12 -> 0 | T12: =H12*N12 -> 0 | U12: =I12*M12 -> 0 | V12: =I12*N12 -> 1 | W12: =J12*M12 -> 0 | X12: =J12*N12 -> 0 | Y12: =K12*M12 -> 0 | Z12: =K12*N12 -> 0
C13: 苗木表里□是□否标注移栽苗或地苗 | G13: 1 | I13: 1 | L13: 1 | M13: =IF(D13="合格",L13,IF(D13="合格知会",L13*0.5,0)) -> 0 | N13: =IF(D13="无效项",0,L13) -> 1 | O13: =F13*M13 -> 0 | P13: =F13*N13 -> 0 | Q13: =G13*M13 -> 0 | R13: =G13*N13 -> 1 | S13: =H13*M13 -> 0 | T13: =H13*N13 -> 0 | U13: =I13*M13 -> 0 | V13: =I13*N13 -> 1 | W13: =J13*M13 -> 0 | X13: =J13*N13 -> 0 | Y13: =K13*M13 -> 0 | Z13: =K13*N13 -> 0
C14: 草皮品种____________（关注成本），换季措施_________________ | G14: 1 | J14: 1 | L14: 1 | M14: =IF(D14="合格",L14,IF(D14="合格知会",L14*0.5,0)) -> 0 | N14: =IF(D14="无效项",0,L14) -> 1 | O14: =F14*M14 -> 0 | P14: =F14*N14 -> 0 | Q14: =G14*M14 -> 0 | R14: =G14*N14 -> 1 | S14: =H14*M14 -> 0 | T14: =H14*N14 -> 0 | U14: =I14*M14 -> 0 | V14: =I14*N14 -> 0 | W14: =J14*M14 -> 0 | X14: =J14*N14 -> 1 | Y14: =K14*M14 -> 0 | Z14: =K14*N14 -> 0
B15: 规格、数量 | C15: 胸径在30cm以上主景树、点睛树数量____________（不宜超过乔木总量10%），冠幅在5m以上花乔（金桂、八棱海棠等）数量_____________（不宜超过5%) | I15: 1 | L15: 3 | M15: =IF(D15="合格",L15,IF(D15="合格知会",L15*0.5,0)) -> 0 | N15: =IF(D15="无效项",0,L15) -> 3 | O15: =F15*M15 -> 0 | P15: =F15*N15 -> 0 | Q15: =G15*M15 -> 0 | R15: =G15*N15 -> 0 | S15: =H15*M15 -> 0 | T15: =H15*N15 -> 0 | U15: =I15*M15 -> 0 | V15: =I15*N15 -> 3 | W15: =J15*M15 -> 0 | X15: =J15*N15 -> 0 | Y15: =K15*M15 -> 0 | Z15: =K15*N15 -> 0
B16: 甲供清单 | C16: □是□否有在苗木清单中划分出甲供苗部分，以免重复招标 | I16: 1 | L16: 3 | M16: =IF(D16="合格",L16,IF(D16="合格知会",L16*0.5,0)) -> 0 | N16: =IF(D16="无效项",0,L16) -> 3 | O16: =F16*M16 -> 0 | P16: =F16*N16 -> 0 | Q16: =G16*M16 -> 0 | R16: =G16*N16 -> 0 | S16: =H16*M16 -> 0 | T16: =H16*N16 -> 0 | U16: =I16*M16 -> 0 | V16: =I16*N16 -> 3 | W16: =J16*M16 -> 0 | X16: =J16*N16 -> 0 | Y16: =K16*M16 -> 0 | Z16: =K16*N16 -> 0
B17: 其他 | M17: =IF(D17="合格",L17,IF(D17="合格知会",L17*0.5,0)) -> 0 | N17: =IF(D17="无效项",0,L17) -> 0 | O17: =F17*M17 -> 0 | P17: =F17*N17 -> 0 | Q17: =G17*M17 -> 0 | R17: =G17*N17 -> 0 | S17: =H17*M17 -> 0 | T17: =H17*N17 -> 0 | U17: =I17*M17 -> 0 | V17: =I17*N17 -> 0 | W17: =J17*M17 -> 0 | X17: =J17*N17 -> 0 | Y17: =K17*M17 -> 0 | Z17: =K17*N17 -> 0
F18: =SUM(F4:F17) -> 3 | G18: =SUM(G4:G17) -> 2 | H18: =SUM(H4:H17) -> 0 | I18: =SUM(I4:I17) -> 8 | J18: =SUM(J4:J17) -> 2 | K18: =SUM(K4:K17) -> 1 | L18: =SUM(L4:L17) -> 23 | M18: =SUM(M4:M17) -> 0 | ... Z18: =SUM(Z4:Z17) -> 1
F20: 5 | G20: 2 | H20: 0 | I20: 16 | J20: 2 | K20: 1
C28: 合格
C29: 整改
C30: 合格知会
C31: 被迫知会
C32: 无效项

Sheet 水电结构
A1: __________项目________地块景观工作界面审查
A2: 审查阶段 | B2: 审查项 | C2: 审查要点 | D2: 审核意见 | E2: 备注 | F2: 分类标签 | L2: 总分（44分） | O2: 分类统计
F3: 客户 （要求知会营销、客服） | G3: 进度以及质量 （知会工程部） | H3: 开发 （知会开发部） | I3: 成本 （知会成本部） | J3: 维保 （知会物业） | K3: 纯设计问题 | L3: 分值 | M3: 得分 | N3: 有效分数 | O3: 客户 得分 | P3: 客户有效分 | Q3: 工程 得分 | R3: 工程有效分 | S3: 开发 得分 | T3: 开发有效分 | U3: 成本 得分 | V3: 成本有效分 | W3: 维保得分 | X3: 维保有效分 | Y3: 设计得分 | Z3: 设计有效分
A4: 给排水图 | B4: 平面布置 | C4: 灌溉点布置距离为______20____米（半径20-25米），外围绿化□是□否设置灌溉点。 | E4: 否 | J4: 1 | L4: 3 | M4: =IF(D4="合格",L4,IF(D4="合格知会",L4*0.5,0)) -> 0 | N4: =IF(D4="无效项",0,L4) -> 3 | O4: =F4*M4 -> 0 | P4: =F4*N4 -> 0 | Q4: =G4*M4 -> 0 | R4: =G4*N4 -> 0 | S4: =H4*M4 -> 0 | T4: =H4*N4 -> 0 | U4: =I4*M4 -> 0 | V4: =I4*N4 -> 0 | W4: =J4*M4 -> 0 | X4: =J4*N4 -> 3 | Y4: =K4*M4 -> 0 | Z4: =K4*N4 -> 0
C5: 给水管采用PP-R管材及配件，最小管径为_____DN25_____(原则不小于DN50,距离较远时，分段计算管径大小，确保末端水压不小于10米扬程） | G5: 1 | L5: 1 | M5: =IF(D5="合格",L5,IF(D5="合格知会",L5*0.5,0)) -> 0 | N5: =IF(D5="无效项",0,L5) -> 1 | O5: =F5*M5 -> 0 | P5: =F5*N5 -> 0 | Q5: =G5*M5 -> 0 | R5: =G5*N5 -> 1 | S5: =H5*M5 -> 0 | T5: =H5*N5 -> 0 | U5: =I5*M5 -> 0 | V5: =I5*N5 -> 0 | W5: =J5*M5 -> 0 | X5: =J5*N5 -> 0 | Y5: =K5*M5 -> 0 | Z5: =K5*N5 -> 0
C6: □是□否设置物业保洁取水点 | E6: 否 | J6: 1 | L6: 1 | M6: =IF(D6="合格",L6,IF(D6="合格知会",L6*0.5,0)) -> 0 | N6: =IF(D6="无效项",0,L6) -> 1 | O6: =F6*M6 -> 0 | P6: =F6*N6 -> 0 | Q6: =G6*M6 -> 0 | R6: =G6*N6 -> 0 | S6: =H6*M6 -> 0 | T6: =H6*N6 -> 0 | U6: =I6*M6 -> 0 | V6: =I6*N6 -> 0 | W6: =J6*M6 -> 0 | X6: =J6*N6 -> 1 | Y6: =K6*M6 -> 0 | Z6: =K6*N6 -> 0
B7: 详图 | C7: 排水井详图□是□否采用装饰处理与景观详图统一。 | E7: 否 | K7: 1 | L7: 1 | M7: =IF(D7="合格",L7,IF(D7="合格知会",L7*0.5,0)) -> 0 | N7: =IF(D7="无效项",0,L7) -> 1 | O7: =F7*M7 -> 0 | P7: =F7*N7 -> 0 | Q7: =G7*M7 -> 0 | R7: =G7*N7 -> 0 | S7: =H7*M7 -> 0 | T7: =H7*N7 -> 0 | U7: =I7*M7 -> 0 | V7: =I7*N7 -> 0 | W7: =J7*M7 -> 0 | X7: =J7*N7 -> 0 | Y7: =K7*M7 -> 0 | Z7: =K7*N7 -> 1
B8: 材料 | C8: 雨水篦子材质为□花岗岩□铸铁□树脂□镀锌钢□其他 | E8: 铸铁 | I8: 1 | L8: 1 | M8: =IF(D8="合格",L8,IF(D8="合格知会",L8*0.5,0)) -> 0 | N8: =IF(D8="无效项",0,L8) -> 1 | O8: =F8*M8 -> 0 | P8: =F8*N8 -> 0 | Q8: =G8*M8 -> 0 | R8: =G8*N8 -> 0 | S8: =H8*M8 -> 0 | T8: =H8*N8 -> 0 | U8: =I8*M8 -> 0 | V8: =I8*N8 -> 1 | W8: =J8*M8 -> 0 | X8: =J8*N8 -> 0 | Y8: =K8*M8 -> 0 | Z8: =K8*N8 -> 0
B9: 规格 | C9: 排水口尺寸为__300x500__（不大于300X600） | E9: 300X500 | G9: 1 | L9: 3 | M9: =IF(D9="合格",L9,IF(D9="合格知会",L9*0.5,0)) -> 0 | N9: =IF(D9="无效项",0,L9) -> 3 | O9: =F9*M9 -> 0 | P9: =F9*N9 -> 0 | Q9: =G9*M9 -> 0 | R9: =G9*N9 -> 3 | S9: =H9*M9 -> 0 | T9: =H9*N9 -> 0 | U9: =I9*M9 -> 0 | V9: =I9*N9 -> 0 | W9: =J9*M9 -> 0 | X9: =J9*N9 -> 0 | Y9: =K9*M9 -> 0 | Z9: =K9*N9 -> 0
A10: 配电图 | B10: 系统图 | C10: 电缆敷设方式采用□直埋□套管（原则上不建议采用直埋敷设电缆，用PVC管敷设） | G10: 1 | L10: 1 | M10: =IF(D10="合格",L10,IF(D10="合格知会",L10*0.5,0)) -> 0 | N10: =IF(D10="无效项",0,L10) -> 1 | O10: =F10*M10 -> 0 | P10: =F10*N10 -> 0 | Q10: =G10*M10 -> 0 | R10: =G10*N10 -> 1 | S10: =H10*M10 -> 0 | T10: =H10*N10 -> 0 | U10: =I10*M10 -> 0 | V10: =I10*N10 -> 0 | W10: =J10*M10 -> 0 | X10: =J10*N10 -> 0 | Y10: =K10*M10 -> 0 | Z10: =K10*N10 -> 0
C11: 灯具功率与最终选型的灯具功率□是□否一致。 | I11: 1 | L11: 1 | M11: =IF(D11="合格",L11,IF(D11="合格知会",L11*0.5,0)) -> 0 | N11: =IF(D11="无效项",0,L11) -> 1 | O11: =F11*M11 -> 0 | P11: =F11*N11 -> 0 | Q11: =G11*M11 -> 0 | R11: =G11*N11 -> 0 | S11: =H11*M11 -> 0 | T11: =H11*N11 -> 0 | U11: =I11*M11 -> 0 | V11: =I11*N11 -> 1 | W11: =J11*M11 -> 0 | X11: =J11*N11 -> 0 | Y11: =K11*M11 -> 0 | Z11: =K11*N11 -> 0
C12: 围墙灯、路灯及庭院灯□是□否分回路控制。 | J12: 1 | L12: 1 | M12: =IF(D12="合格",L12,IF(D12="合格知会",L12*0.5,0)) -> 0 | N12: =IF(D12="无效项",0,L12) -> 1 | O12: =F12*M12 -> 0 | P12: =F12*N12 -> 0 | Q12: =G12*M12 -> 0 | R12: =G12*N12 -> 0 | S12: =H12*M12 -> 0 | T12: =H12*N12 -> 0 | U12: =I12*M12 -> 0 | V12: =I12*N12 -> 0 | W12: =J12*M12 -> 0 | X12: =J12*N12 -> 1 | Y12: =K12*M12 -> 0 | Z12: =K12*N12 -> 0
C13: 预留配电回路_______________个（后期物业安装灭蚊灯、广告灯箱等） | J13: 1 | L13: 1 | M13: =IF(D13="合格",L13,IF(D13="合格知会",L13*0.5,0)) -> 0 | N13: =IF(D13="无效项",0,L13) -> 1 | O13: =F13*M13 -> 0 | P13: =F13*N13 -> 0 | Q13: =G13*M13 -> 0 | R13: =G13*N13 -> 0 | S13: =H13*M13 -> 0 | T13: =H13*N13 -> 0 | U13: =I13*M13 -> 0 | V13: =I13*N13 -> 0 | W13: =J13*M13 -> 0 | X13: =J13*N13 -> 1 | Y13: =K13*M13 -> 0 | Z13: =K13*N13 -> 0
B14: 配电箱 | C14: 灯光配电箱控制类型□手动□自动（定时、感应）；水景控制箱类型□手动□自动（定时） | J14: 1 | L14: 1 | M14: =IF(D14="合格",L14,IF(D14="合格知会",L14*0.5,0)) -> 0 | N14: =IF(D14="无效项",0,L14) -> 1 | O14: =F14*M14 -> 0 | P14: =F14*N14 -> 0 | Q14: =G14*M14 -> 0 | R14: =G14*N14 -> 0 | S14: =H14*M14 -> 0 | T14: =H14*N14 -> 0 | U14: =I14*M14 -> 0 | V14: =I14*N14 -> 0 | W14: =J14*M14 -> 0 | X14: =J14*N14 -> 1 | Y14: =K14*M14 -> 0 | Z14: =K14*N14 -> 0
C15: 配电箱安装位置______________(原则上放置门卫房、设备房；如距离较远时，可独立设置，但需要配备防水配电箱，位置隐蔽，便于物业使用方便） | F15: 1 | J15: 1 | L15: 3 | M15: =IF(D15="合格",L15,IF(D15="合格知会",L15*0.5,0)) -> 0 | N15: =IF(D15="无效项",0,L15) -> 3 | O15: =F15*M15 -> 0 | P15: =F15*N15 -> 3 | Q15: =G15*M15 -> 0 | R15: =G15*N15 -> 0 | S15: =H15*M15 -> 0 | T15: =H15*N15 -> 0 | U15: =I15*M15 -> 0 | V15: =I15*N15 -> 0 | W15: =J15*M15 -> 0 | X15: =J15*N15 -> 3 | Y15: =K15*M15 -> 0 | Z15: =K15*N15 -> 0
B16: 布置图 | C16: 小区总体配电点至景观配电箱总线□是□否布置。 | I16: 1 | L16: 3 | M16: =IF(D16="合格",L16,IF(D16="合格知会",L16*0.5,0)) -> 0 | N16: =IF(D16="无效项",0,L16) -> 3 | O16: =F16*M16 -> 0 | P16: =F16*N16 -> 0 | Q16: =G16*M16 -> 0 | R16: =G16*N16 -> 0 | S16: =H16*M16 -> 0 | T16: =H16*N16 -> 0 | U16: =I16*M16 -> 0 | V16: =I16*N16 -> 3 | W16: =J16*M16 -> 0 | X16: =J16*N16 -> 0 | Y16: =K16*M16 -> 0 | Z16: =K16*N16 -> 0
C17: 灯具与电缆连接方式为□接线井□接线盒（需要节点详图） | G17: 1 | L17: 3 | M17: =IF(D17="合格",L17,IF(D17="合格知会",L17*0.5,0)) -> 0 | N17: =IF(D17="无效项",0,L17) -> 3 | O17: =F17*M17 -> 0 | P17: =F17*N17 -> 0 | Q17: =G17*M17 -> 0 | R17: =G17*N17 -> 3 | S17: =H17*M17 -> 0 | T17: =H17*N17 -> 0 | U17: =I17*M17 -> 0 | V17: =I17*N17 -> 0 | W17: =J17*M17 -> 0 | X17: =J17*N17 -> 0 | Y17: =K17*M17 -> 0 | Z17: =K17*N17 -> 0
B18: 水景图 | C18: 水景灯具配电□是□否为低压（不大于24V),水池边设置□是□否变压器井 | F18: 1 | L18: 3 | M18: =IF(D18="合格",L18,IF(D18="合格知会",L18*0.5,0)) -> 0 | N18: =IF(D18="无效项",0,L18) -> 3 | O18: =F18*M18 -> 0 | P18: =F18*N18 -> 3 | Q18: =G18*M18 -> 0 | R18: =G18*N18 -> 0 | S18: =H18*M18 -> 0 | T18: =H18*N18 -> 0 | U18: =I18*M18 -> 0 | V18: =I18*N18 -> 0 | W18: =J18*M18 -> 0 | X18: =J18*N18 -> 0 | Y18: =K18*M18 -> 0 | Z18: =K18*N18 -> 0
A19: 结构图 | B19: 构筑物 | C19: □是□否有超过1.5米高差挡土墙，形式为□毛石□砖砌体□混凝土；□是□否为结构专业复核。 | G19: 1 | I19: 1 | L19: 3 | M19: =IF(D19="合格",L19,IF(D19="合格知会",L19*0.5,0)) -> 0 | N19: =IF(D19="无效项",0,L19) -> 3 | O19: =F19*M19 -> 0 | P19: =F19*N19 -> 0 | Q19: =G19*M19 -> 0 | R19: =G19*N19 -> 3 | S19: =H19*M19 -> 0 | T19: =H19*N19 -> 0 | U19: =I19*M19 -> 0 | V19: =I19*N19 -> 3 | W19: =J19*M19 -> 0 | X19: =J19*N19 -> 0 | Y19: =K19*M19 -> 0 | Z19: =K19*N19 -> 0
C20: 地库顶板□是□否有大型构筑物，基础与地库梁柱□是□否对应。 | G20: 1 | L20: 3 | M20: =IF(D20="合格",L20,IF(D20="合格知会",L20*0.5,0)) -> 0 | N20: =IF(D20="无效项",0,L20) -> 3 | O20: =F20*M20 -> 0 | P20: =F20*N20 -> 0 | Q20: =G20*M20 -> 0 | R20: =G20*N20 -> 3 | S20: =H20*M20 -> 0 | T20: =H20*N20 -> 0 | U20: =I20*M20 -> 0 | V20: =I20*N20 -> 0 | W20: =J20*M20 -> 0 | X20: =J20*N20 -> 0 | Y20: =K20*M20 -> 0 | Z20: =K20*N20 -> 0
B21: 景墙 | C21: 景墙最高_____________米，最长_____________米，□是□否设置构造梁柱。 | G21: 1 | L21: 3 | M21: =IF(D21="合格",L21,IF(D21="合格知会",L21*0.5,0)) -> 0 | N21: =IF(D21="无效项",0,L21) -> 3 | O21: =F21*M21 -> 0 | P21: =F21*N21 -> 0 | Q21: =G21*M21 -> 0 | R21: =G21*N21 -> 3 | S21: =H21*M21 -> 0 | T21: =H21*N21 -> 0 | U21: =I21*M21 -> 0 | V21: =I21*N21 -> 0 | W21: =J21*M21 -> 0 | X21: =J21*N21 -> 0 | Y21: =K21*M21 -> 0 | Z21: =K21*N21 -> 0
B22: 围墙 | C22: 围墙伸缩缝设置为□双柱□柱中□柱子与墙体连接处，距离为________米（不大于30米） | G22: 1 | L22: 1 | M22: =IF(D22="合格",L22,IF(D22="合格知会",L22*0.5,0)) -> 0 | N22: =IF(D22="无效项",0,L22) -> 1 | O22: =F22*M22 -> 0 | P22: =F22*N22 -> 0 | Q22: =G22*M22 -> 0 | R22: =G22*N22 -> 1 | S22: =H22*M22 -> 0 | T22: =H22*N22 -> 0 | U22: =I22*M22 -> 0 | V22: =I22*N22 -> 0 | W22: =J22*M22 -> 0 | X22: =J22*N22 -> 0 | Y22: =K22*M22 -> 0 | Z22: =K22*N22 -> 0
B23: 水景 | C23: 水池混凝土结构□是□否为抗渗，等级为_______________（建议P6以上） | G23: 1 | L23: 1 | M23: =IF(D23="合格",L23,IF(D23="合格知会",L23*0.5,0)) -> 0 | N23: =IF(D23="无效项",0,L23) -> 1 | O23: =F23*M23 -> 0 | P23: =F23*N23 -> 0 | Q23: =G23*M23 -> 0 | R23: =G23*N23 -> 1 | S23: =H23*M23 -> 0 | T23: =H23*N23 -> 0 | U23: =I23*M23 -> 0 | V23: =I23*N23 -> 0 | W23: =J23*M23 -> 0 | X23: =J23*N23 -> 0 | Y23: =K23*M23 -> 0 | Z23: =K23*N23 -> 0
C24: 地库上□是□否出现大面积水景处理措施，□是□否与结构复核 | G24: 1 | L24: 3 | M24: =IF(D24="合格",L24,IF(D24="合格知会",L24*0.5,0)) -> 0 | N24: =IF(D24="无效项",0,L24) -> 3 | O24: =F24*M24 -> 0 | P24: =F24*N24 -> 0 | Q24: =G24*M24 -> 0 | R24: =G24*N24 -> 3 | S24: =H24*M24 -> 0 | T24: =H24*N24 -> 0 | U24: =I24*M24 -> 0 | V24: =I24*N24 -> 0 | W24: =J24*M24 -> 0 | X24: =J24*N24 -> 0 | Y24: =K24*M24 -> 0 | Z24: =K24*N24 -> 0
C25: 水景□是□否横跨不同地基，处理方式为_______________ | G25: 1 | L25: 3 | M25: =IF(D25="合格",L25,IF(D25="合格知会",L25*0.5,0)) -> 0 | N25: =IF(D25="无效项",0,L25) -> 3 | O25: =F25*M25 -> 0 | P25: =F25*N25 -> 0 | Q25: =G25*M25 -> 0 | R25: =G25*N25 -> 3 | S25: =H25*M25 -> 0 | T25: =H25*N25 -> 0 | U25: =I25*M25 -> 0 | V25: =I25*N25 -> 0 | W25: =J25*M25 -> 0 | X25: =J25*N25 -> 0 | Y25: =K25*M25 -> 0 | Z25: =K25*N25 -> 0
F26: =SUM(F4:F25) -> 2 | G26: =SUM(G4:G25) -> 11 | H26: =SUM(H4:H25) -> 0 | I26: =SUM(I4:I25) -> 4 | J26: =SUM(J4:J25) -> 6 | K26: =SUM(K4:K25) -> 1 | L26: =SUM(L4:L25) -> 44 | M26: =SUM(M4:M25) -> 0 | ... Z26: =SUM(Z4:Z25) -> 1
F28: 9 | G28: 25 | H28: 0 | I28: 8 | J28: 10 | K28: 1
C42: 合格
C43: 整改
C44: 合格知会
C45: 被迫知会
C46: 无效项

Sheet 总体评级
A1: _________项目______地块景观施工图审查结论
A2: 图纸总体评价
B3: 总分 | C3: 客户导向维度 | D3: 工程考量维度 | E3: 开发报批维度 | F3: 成本考量维度 | G3: 维保增值维度 | H3: 设计质量维度
A4: 评价 | B4: =SUM(图纸完整性!M14+总图!M25+详图!M42+种植图!M18+水电结构!M26)/SUM(图纸完整性!N14+总图!N25+详图!N42+种植图!N18+水电结构!N26)*100 -> 10.582011 | C4: =SUM(图纸完整性!O14+总图!O25+详图!O42+种植图!O18+水电结构!O26)/SUM(图纸完整性!P14+总图!P25+详图!P42+种植图!P18+水电结构!P26)*100 -> 17.045455 | D4: =SUM(图纸完整性!Q14+总图!Q25+详图!Q42+种植图!Q18+水电结构!Q26)/SUM(图纸完整性!R14+总图!R25+详图!R42+种植图!R18+水电结构!R26)*100 -> 7.5 | E4: =SUM(图纸完整性!S14+总图!S25+详图!S42+种植图!S18+水电结构!S26)/SUM(图纸完整性!T14+总图!T25+详图!T42+种植图!T18+水电结构!T26)*100 -> 41.176471 | F4: =SUM(图纸完整性!U14+总图!U25+详图!U42+种植图!U18+水电结构!U26)/SUM(图纸完整性!V14+总图!V25+详图!V42+种植图!V18+水电结构!V26)*100 -> 8.0357143 | G4: =SUM(图纸完整性!W14+总图!W25+详图!W42+种植图!W18+水电结构!W26)/SUM(图纸完整性!X14+总图!X25+详图!X42+种植图!X18+水电结构!X26)*100 -> 4 | H4: =SUM(图纸完整性!Y14+总图!Y25+详图!Y42+种植图!Y18+水电结构!Y26)/SUM(图纸完整性!Z14+总图!Z25+详图!Z42+种植图!Z18+水电结构!Z26)*100 -> 30
C42: 客户 （要求知会营销、客服） | D42: 进度以及质量 （知会工程部） | E42: 开发 （知会开发部） | F42: 成本 （知会成本部） | G42: 维保 （知会物业） | H42: 纯设计问题
C43: 61 | D43: 86 | E43: 17 | F43: 61 | G43: 25 | H43: 25

Sheet 会签
A1: _________项目______地块景观施工图审查结论
A2: 会签

Sheet 分类统计
A1: 分类统计
A2: 总数 | B2: 客户 （要求知会营销、客服） | C2: 进度以及质量 （知会工程部） | D2: 开发 （知会开发部） | E2: 成本 （知会成本部） | F2: 维保 （知会物业） | G2: 纯设计问题
A3: =SUM(B3:G3) -> 163 | B3: 32 | C3: 45 | D3: 7 | E3: 43 | F3: 17 | G3: 19
